BEGIN:VCALENDAR
VERSION:2.0
PRODID:-//Schwalmstadt Aktuell - ECPv6.15.20//NONSGML v1.0//EN
CALSCALE:GREGORIAN
METHOD:PUBLISH
X-WR-CALNAME:Schwalmstadt Aktuell
X-ORIGINAL-URL:https://www.schwalmstadt-aktuell.de
X-WR-CALDESC:Veranstaltungen im Schwalmstadt Aktuell
REFRESH-INTERVAL;VALUE=DURATION:PT1H
X-Robots-Tag:noindex
X-PUBLISHED-TTL:PT1H
BEGIN:VTIMEZONE
TZID:Europe/Berlin
BEGIN:DAYLIGHT
TZOFFSETFROM:+0100
TZOFFSETTO:+0200
TZNAME:CEST
DTSTART:20230326T010000
END:DAYLIGHT
BEGIN:STANDARD
TZOFFSETFROM:+0200
TZOFFSETTO:+0100
TZNAME:CET
DTSTART:20231029T010000
END:STANDARD
BEGIN:DAYLIGHT
TZOFFSETFROM:+0100
TZOFFSETTO:+0200
TZNAME:CEST
DTSTART:20240331T010000
END:DAYLIGHT
BEGIN:STANDARD
TZOFFSETFROM:+0200
TZOFFSETTO:+0100
TZNAME:CET
DTSTART:20241027T010000
END:STANDARD
BEGIN:DAYLIGHT
TZOFFSETFROM:+0100
TZOFFSETTO:+0200
TZNAME:CEST
DTSTART:20250330T010000
END:DAYLIGHT
BEGIN:STANDARD
TZOFFSETFROM:+0200
TZOFFSETTO:+0100
TZNAME:CET
DTSTART:20251026T010000
END:STANDARD
END:VTIMEZONE
BEGIN:VEVENT
DTSTART;TZID=Europe/Berlin:20241116T130000
DTEND;TZID=Europe/Berlin:20241116T170000
DTSTAMP:20260421T024413
CREATED:20240917T173533Z
LAST-MODIFIED:20240917T173533Z
UID:17255-1731762000-1731776400@www.schwalmstadt-aktuell.de
SUMMARY:Herbst-Dorf-Putz in Rommershausen
DESCRIPTION:Der Ortsbeirat lädt zum alljährlichen Herbstputz ein. \nTreffen ist um 13 Uhr am Dorfplatz. Dort teilen wir uns dann auf\, um Büsche\, Hecken etc. zu schneiden\, Laub zu rechen\, …\nArbeitsgeräte (Besen\, Schaufel\, Rechen\, Schubkarren\, Hacken\, ggfs. Hecken- und Astscheren) sind gerne mitzubringen. \nZum Abschluss gibt es – wie immer – auch einen Imbiss. Je nach Wetterlage In- oder Outdoor \nEs freut sich auf viele fleißige Helfer – der Ortsbeirat Rommershausen
URL:https://www.schwalmstadt-aktuell.de/event/herbst-dorf-putz-in-rommershausen/
LOCATION:[Amtlicher Beitrag] Dorfplatz\, Schloßstr. 2\, Rommershausen\, 34613\, Deutschland
ATTACH;FMTTYPE=image/jpeg:https://www.schwalmstadt-aktuell.de/wp-content/uploads/sites/366/2024/09/laub-rechen.jpg
END:VEVENT
END:VCALENDAR