BEGIN:VCALENDAR
VERSION:2.0
PRODID:-//Schwalmstadt Aktuell - ECPv6.15.20//NONSGML v1.0//EN
CALSCALE:GREGORIAN
METHOD:PUBLISH
X-WR-CALNAME:Schwalmstadt Aktuell
X-ORIGINAL-URL:https://www.schwalmstadt-aktuell.de
X-WR-CALDESC:Veranstaltungen im Schwalmstadt Aktuell
REFRESH-INTERVAL;VALUE=DURATION:PT1H
X-Robots-Tag:noindex
X-PUBLISHED-TTL:PT1H
BEGIN:VTIMEZONE
TZID:Europe/Berlin
BEGIN:DAYLIGHT
TZOFFSETFROM:+0100
TZOFFSETTO:+0200
TZNAME:CEST
DTSTART:20240331T010000
END:DAYLIGHT
BEGIN:STANDARD
TZOFFSETFROM:+0200
TZOFFSETTO:+0100
TZNAME:CET
DTSTART:20241027T010000
END:STANDARD
BEGIN:DAYLIGHT
TZOFFSETFROM:+0100
TZOFFSETTO:+0200
TZNAME:CEST
DTSTART:20250330T010000
END:DAYLIGHT
BEGIN:STANDARD
TZOFFSETFROM:+0200
TZOFFSETTO:+0100
TZNAME:CET
DTSTART:20251026T010000
END:STANDARD
BEGIN:DAYLIGHT
TZOFFSETFROM:+0100
TZOFFSETTO:+0200
TZNAME:CEST
DTSTART:20260329T010000
END:DAYLIGHT
BEGIN:STANDARD
TZOFFSETFROM:+0200
TZOFFSETTO:+0100
TZNAME:CET
DTSTART:20261025T010000
END:STANDARD
BEGIN:DAYLIGHT
TZOFFSETFROM:+0100
TZOFFSETTO:+0200
TZNAME:CEST
DTSTART:20270328T010000
END:DAYLIGHT
BEGIN:STANDARD
TZOFFSETFROM:+0200
TZOFFSETTO:+0100
TZNAME:CET
DTSTART:20271031T010000
END:STANDARD
END:VTIMEZONE
BEGIN:VEVENT
DTSTART;VALUE=DATE:20250530
DTEND;VALUE=DATE:20250602
DTSTAMP:20260421T012908
CREATED:20250525T102328Z
LAST-MODIFIED:20250525T113153Z
UID:17441-1748563200-1748822399@www.schwalmstadt-aktuell.de
SUMMARY:Kirmes Ascherode
DESCRIPTION:
URL:https://www.schwalmstadt-aktuell.de/event/kirmes-ascherode/
LOCATION:Festplatz Ascherode\, Teichwiese\, Ascherode\, Hessen\, 34613\, Germany
END:VEVENT
BEGIN:VEVENT
DTSTART;TZID=Europe/Berlin:20250606T143000
DTEND;TZID=Europe/Berlin:20250606T180000
DTSTAMP:20260421T012908
CREATED:20250525T123940Z
LAST-MODIFIED:20250525T124000Z
UID:17449-1749220200-1749232800@www.schwalmstadt-aktuell.de
SUMMARY:Dorfcafé Ascherode
DESCRIPTION:Dorfcafé_2025.06.06
URL:https://www.schwalmstadt-aktuell.de/event/dorfcafe-ascherode/
LOCATION:DGH Ascherode\, Teichwiese\, Ascherode\, Hessen\, 34613\, Germany
END:VEVENT
BEGIN:VEVENT
DTSTART;TZID=Europe/Berlin:20250614T200000
DTEND;TZID=Europe/Berlin:20250615T010000
DTSTAMP:20260421T012908
CREATED:20240615T084801Z
LAST-MODIFIED:20241008T154842Z
UID:17169-1749931200-1749949200@www.schwalmstadt-aktuell.de
SUMMARY:ScheunenRock 2025
DESCRIPTION:Save the Date! \nDer Dorfverein Rommershausen veranstaltet am 14. Juni den ScheunenRock 2025 – als Band konnten wir Mike Gerhold & Friends gewinnen. Freut euch auf einen rockigen Abend 🤘 \n \nMike Gerhold feierte in 2022 sein 30-jähriges Bühnenjubiläum. Dass er kein Unbekannter ist\, zeigt allein seine Historie in der er bereits Auftritte als Supportact von Größen wie SWEET\, SLADE\, DORO PESCH\, SAXON\, BARCLAY JAMES HARVEST\, INEXTREMO \, Spider Murphy Gang\, The Hooters u.v.a. namhaften Größen vorweisen kann.  \n  \nMitveranstalter ist die Stadt Schwalmstadt
URL:https://www.schwalmstadt-aktuell.de/event/scheunenrock-2025/
LOCATION:[Amtlicher Beitrag] Festscheune\, Bahnhofsweg 4\, Schwalmstadt\, Hessen\, 34613\, Deutschland
END:VEVENT
BEGIN:VEVENT
DTSTART;TZID=Europe/Berlin:20251025T103000
DTEND;TZID=Europe/Berlin:20251025T160000
DTSTAMP:20260421T012908
CREATED:20250930T090101Z
LAST-MODIFIED:20250930T090101Z
UID:17496-1761388200-1761408000@www.schwalmstadt-aktuell.de
SUMMARY:Herbstputz Dittershausen
DESCRIPTION:Liebe Dittershäuser/innen\, \nunser diesjähriger „Herbstputz“ findet am \nSamstag\, den 25. Oktober 2025 statt. \nBeginn ist um 10:30 Uhr. \nWir treffen uns an der „Alten Schule“. \nAuch in diesem Jahr wollen wir wieder verschiedene öffentliche Flächen im Ort\, sowie den Friedhof\, säubern und pflegen. Die erforderlichen Geräte sollten mitgebracht werden. \nWie in jedem Jahr wird auch diesmal für das leibliche Wohl gesorgt sein. \nAuf viele fleißige Helfer freut sich Euer Ortsbeirat Dittershausen \n  \n  \n  \n  \n 
URL:https://www.schwalmstadt-aktuell.de/event/herbstputz-dittershausen/
LOCATION:[Amtlicher Beitrag] DGH Dittershausen
END:VEVENT
BEGIN:VEVENT
DTSTART;TZID=Europe/Berlin:20251029T143000
DTEND;TZID=Europe/Berlin:20251029T173000
DTSTAMP:20260421T012908
CREATED:20251020T150706Z
LAST-MODIFIED:20251020T150706Z
UID:17500-1761748200-1761759000@www.schwalmstadt-aktuell.de
SUMMARY:3. Rommershäuser Dorfcafe
DESCRIPTION:Der Ortsbeirat Rommershausen lädt am 29.10. ab 14.30 Uhr zum 3. Rommershäuser Dorfcafe ein. \nWir wollen bei Kaffee und Kuchen im DGH Rommershausen einen gemütlichen Nachmittag. verbringen. \nAnne\, Monika\, Jürgen\, Erich und Guido
URL:https://www.schwalmstadt-aktuell.de/event/3-rommershaeuser-dorfcafe/
LOCATION:[Amtlicher Beitrag] DGH Rommershausen\, Bahnhofsweg 4\, Schwalmstadt\, 34613
ATTACH;FMTTYPE=image/png:https://www.schwalmstadt-aktuell.de/wp-content/uploads/sites/366/2025/10/Dorfcafe.png
END:VEVENT
BEGIN:VEVENT
DTSTART;TZID=Europe/Berlin:20251113T193000
DTEND;TZID=Europe/Berlin:20251113T210000
DTSTAMP:20260421T012908
CREATED:20250929T164928Z
LAST-MODIFIED:20250929T164928Z
UID:17488-1763062200-1763067600@www.schwalmstadt-aktuell.de
SUMMARY:Aufstellung Wahlvorschlag Bürgerliste Rommershausen
DESCRIPTION:Der Ortsbeirat lädt alle Bürgerinnen und Bürger von Rommershausen ein\, den Wahlvorschlag der Bürgerliste Rommershausen für die Kommunalwahl am 15.03.2026 aufzustellen. \n 
URL:https://www.schwalmstadt-aktuell.de/event/aufstellung-wahlvorschlag-buergerliste-rommershausen/
END:VEVENT
BEGIN:VEVENT
DTSTART;TZID=Europe/Berlin:20251115T133000
DTEND;TZID=Europe/Berlin:20251115T163000
DTSTAMP:20260421T012908
CREATED:20250929T164138Z
LAST-MODIFIED:20250929T164138Z
UID:17485-1763213400-1763224200@www.schwalmstadt-aktuell.de
SUMMARY:Herbst-Dorfputz in Rommershausen
DESCRIPTION:Der Ortsbeirat lädt zum alljährlichen Herbstputz ein. \nTreffen ist um 13:30 Uhr am Dorfplatz. Dort teilen wir uns dann auf\, um Büsche\, Hecken etc. zu schneiden\, Laub zu rechen\, …\nArbeitsgeräte (Besen\, Schaufel\, Rechen\, Schubkarren\, Hacken\, ggfs. Hecken- und Astscheren) sind gerne mitzubringen. \nZum Abschluss gibt es – wie immer – auch einen Imbiss. Je nach Wetterlage In- oder Outdoor \nEs freut sich auf viele fleißige Helfer – der Ortsbeirat Rommershausen
URL:https://www.schwalmstadt-aktuell.de/event/herbst-dorfputz-in-rommershausen/
LOCATION:[Amtlicher Beitrag] Dorfplatz\, Schloßstr. 2\, Rommershausen\, 34613\, Deutschland
END:VEVENT
BEGIN:VEVENT
DTSTART;TZID=Europe/Berlin:20251204T190000
DTEND;TZID=Europe/Berlin:20251204T210000
DTSTAMP:20260421T012908
CREATED:20251121T160243Z
LAST-MODIFIED:20251121T160243Z
UID:17518-1764874800-1764882000@www.schwalmstadt-aktuell.de
SUMMARY:Bürgerversammlung zur Aufstellung des Wahlvorschlags der Bürgerliste Dittershausen
DESCRIPTION:Wir laden alle Bürgerinnen und Bürger aus Dittershausen zu einer  Bürgerversammlung am 04.12.2025 19:00Uhr in das Dorfgemeinschaftshaus in Dittershausen ein. \nWährend dieser Versammlung wollen wir den Wahlvorschlag der Bürgerliste Dittershausen für die Kommunalwahl am 15.03.2026 zusammen aufstellen.
URL:https://www.schwalmstadt-aktuell.de/event/buergerversammlung-zur-aufstellung-des-wahlvorschlags-der-buergerliste-dittershausen/
LOCATION:[Amtlicher Beitrag] DGH Dittershausen
END:VEVENT
BEGIN:VEVENT
DTSTART;VALUE=DATE:20260328
DTEND;VALUE=DATE:20260329
DTSTAMP:20260421T012908
CREATED:20260120T180012Z
LAST-MODIFIED:20260120T115336Z
UID:17553-1774656000-1774742399@www.schwalmstadt-aktuell.de
SUMMARY:Jahreshauptversammlung HBF 2026
DESCRIPTION:Liebe Florshainer\, \nam 28.03.2026 findet die Jahreshauptversammlung des Vereins Heimat und Brauchtum Florshain im Dorfgemeinschaftshaus statt.
URL:https://www.schwalmstadt-aktuell.de/event/jahreshauptversammlung-hbf-2026/
LOCATION:DGH Florshain
END:VEVENT
BEGIN:VEVENT
DTSTART;VALUE=DATE:20260405
DTEND;VALUE=DATE:20260406
DTSTAMP:20260421T012908
CREATED:20260120T180022Z
LAST-MODIFIED:20260120T114804Z
UID:17559-1775347200-1775433599@www.schwalmstadt-aktuell.de
SUMMARY:Osternachtgottesdienst mit Frühstück 2026
DESCRIPTION:Liebe Florshainer\, \nam 05.04.2026 findet durch den Förderkreis Kirche Florshain der Osternachtgottesdienst mit anschließendem Osterfrühstück statt.
URL:https://www.schwalmstadt-aktuell.de/event/osternachtgottesdienst-mit-fruehstueck-2026/
LOCATION:Kirche Florshain
END:VEVENT
BEGIN:VEVENT
DTSTART;VALUE=DATE:20260409
DTEND;VALUE=DATE:20260413
DTSTAMP:20260421T012908
CREATED:20260120T180039Z
LAST-MODIFIED:20260120T140342Z
UID:17587-1775692800-1776038399@www.schwalmstadt-aktuell.de
SUMMARY:Kirmes Florshain 2026
DESCRIPTION:Liebe Florshainer\, \nvom 09.04. bis 12.04.2026 findet die Kirmes des Jugendclubs Florshain zum 20-jährigen Jubiläum statt.
URL:https://www.schwalmstadt-aktuell.de/event/kirmes-florshain-2026/
LOCATION:Festplatz Florshain
END:VEVENT
BEGIN:VEVENT
DTSTART;VALUE=DATE:20260418
DTEND;VALUE=DATE:20260419
DTSTAMP:20260421T012908
CREATED:20260120T180021Z
LAST-MODIFIED:20260120T113709Z
UID:17549-1776470400-1776556799@www.schwalmstadt-aktuell.de
SUMMARY:Dorfreinigungsaktion 2026
DESCRIPTION:Liebe Florshainer\, \nam 18.04.2026 führt der Verschönerungsverein Florshain die Dorfreinigungsaktion durch.
URL:https://www.schwalmstadt-aktuell.de/event/dorfreinigungsaktion-2026/
LOCATION:Florshain
END:VEVENT
BEGIN:VEVENT
DTSTART;TZID=Europe/Berlin:20260425T133000
DTEND;TZID=Europe/Berlin:20260425T170000
DTSTAMP:20260421T012908
CREATED:20260407T183311Z
LAST-MODIFIED:20260412T181050Z
UID:17627-1777123800-1777136400@www.schwalmstadt-aktuell.de
SUMMARY:Frühjahrsputz in Rommershausen am 25.4.26
DESCRIPTION:Am Samstag 25. April 2026 treffen wir uns zum Frühjahrsputz am Dorfplatz in Rommershausen. \nArbeitsgeräte wie Harken oder Besen gerne mitbringen. \nAusklang gegen 16.30 Uhr – je nach Wetter am Dorfplatz oder im DGH (unten). \nEs gibt einen Imbiss zum Abschluss. \nDer Ortsbeitrat freut sich über rege Teilnahme
URL:https://www.schwalmstadt-aktuell.de/event/fruehjahrsputz-in-rommershausen-am-25-4-26/
LOCATION:[Amtlicher Beitrag] Rommershausen\, 34613\, Germany
END:VEVENT
BEGIN:VEVENT
DTSTART;TZID=Europe/Berlin:20260426T110000
DTEND;TZID=Europe/Berlin:20260426T160000
DTSTAMP:20260421T012908
CREATED:20260214T135526Z
LAST-MODIFIED:20260214T135649Z
UID:17605-1777201200-1777219200@www.schwalmstadt-aktuell.de
SUMMARY:3. Rommershäuser Hof-/Garagenflohmarkt
DESCRIPTION:
URL:https://www.schwalmstadt-aktuell.de/event/3-rommershaeuser-hof-garagenflohmarkt/
LOCATION:[Amtlicher Beitrag] Rommershausen\, 34613\, Germany
ATTACH;FMTTYPE=image/jpeg:https://www.schwalmstadt-aktuell.de/wp-content/uploads/sites/366/2026/02/550f85e4-6c7e-4f07-ab38-a75998f43f68.jpeg
END:VEVENT
BEGIN:VEVENT
DTSTART;VALUE=DATE:20260430
DTEND;VALUE=DATE:20260501
DTSTAMP:20260421T012908
CREATED:20260120T180032Z
LAST-MODIFIED:20260120T134725Z
UID:17574-1777507200-1777593599@www.schwalmstadt-aktuell.de
SUMMARY:Maifeuer 2026
DESCRIPTION:Liebe Florshainer\, \nam 30.04.2026 veranstaltet der TSV Florshain wieder das Maifeuer. Eine Grünschnittabgabe ist ab diesem Jahr nicht mehr möglich.
URL:https://www.schwalmstadt-aktuell.de/event/maifeuer-2026/
LOCATION:Festplatz Florshain
END:VEVENT
BEGIN:VEVENT
DTSTART;VALUE=DATE:20260515
DTEND;VALUE=DATE:20260516
DTSTAMP:20260421T012908
CREATED:20260120T180008Z
LAST-MODIFIED:20260120T115025Z
UID:17563-1778803200-1778889599@www.schwalmstadt-aktuell.de
SUMMARY:Himmelfahrtsgottesdienst am Dreimärker 2026
DESCRIPTION:Liebe Florshainer\, \nam 15.05.2026 veranstaltet der Förderkreis Kirche Florshain den Himmelfahrtsgottesdienst am Dreimärker. \nGgfs. benötigt der Kirchenvorstand Unterstützung bei der Durchführung.
URL:https://www.schwalmstadt-aktuell.de/event/himmelfahrtsgottesdienst-am-dreimaerker-2026/
LOCATION:Dreimärker Florshain
END:VEVENT
BEGIN:VEVENT
DTSTART;VALUE=DATE:20260603
DTEND;VALUE=DATE:20260604
DTSTAMP:20260421T012908
CREATED:20260120T180051Z
LAST-MODIFIED:20260120T134940Z
UID:17578-1780444800-1780531199@www.schwalmstadt-aktuell.de
SUMMARY:Dämmerschoppen 2026
DESCRIPTION:Liebe Florshainer\, \nam 03.06.2026 findet der diesjährige Dämmerschoppen statt.
URL:https://www.schwalmstadt-aktuell.de/event/daemmerschoppen-2026/
LOCATION:Sportlerheim Florshain
END:VEVENT
BEGIN:VEVENT
DTSTART;VALUE=DATE:20260604
DTEND;VALUE=DATE:20260605
DTSTAMP:20260421T012908
CREATED:20260120T180046Z
LAST-MODIFIED:20260120T135051Z
UID:17581-1780531200-1780617599@www.schwalmstadt-aktuell.de
SUMMARY:Kleinfeldturnier 2026
DESCRIPTION:Liebe Florshainer\, \nam 04.06.2026 richtet der TSV Florshain wieder ein Kleinfeldturnier aus.
URL:https://www.schwalmstadt-aktuell.de/event/kleinfeldturnier-2026/
LOCATION:Sportplatz Florshain
END:VEVENT
BEGIN:VEVENT
DTSTART;VALUE=DATE:20260808
DTEND;VALUE=DATE:20260809
DTSTAMP:20260421T012908
CREATED:20260120T180056Z
LAST-MODIFIED:20260120T135235Z
UID:17584-1786147200-1786233599@www.schwalmstadt-aktuell.de
SUMMARY:Sommerfest 2026
DESCRIPTION:Liebe Florshainer\, \nam 08.08.2026 veranstalten die Kleene Quesbelmännerche ein Sommerfest.
URL:https://www.schwalmstadt-aktuell.de/event/sommerfest-2026/
END:VEVENT
BEGIN:VEVENT
DTSTART;VALUE=DATE:20260919
DTEND;VALUE=DATE:20260920
DTSTAMP:20260421T012908
CREATED:20260120T180016Z
LAST-MODIFIED:20260120T113319Z
UID:17542-1789776000-1789862399@www.schwalmstadt-aktuell.de
SUMMARY:Feuerwehr-Aktionstag 2026
DESCRIPTION:Liebe Florshainer\, \nam 19.09.2026 veranstaltet die Feuerwehr Florshain wieder einen Feuerwehr-Aktionstag.
URL:https://www.schwalmstadt-aktuell.de/event/feuerwehr-aktionstag-2026/
LOCATION:Florshain
END:VEVENT
BEGIN:VEVENT
DTSTART;VALUE=DATE:20260926
DTEND;VALUE=DATE:20260927
DTSTAMP:20260421T012908
CREATED:20260120T180047Z
LAST-MODIFIED:20260120T115404Z
UID:17567-1790380800-1790467199@www.schwalmstadt-aktuell.de
SUMMARY:Grenzwanderung und Festveranstaltung anl. 777 Jahre Stadtrechte Treysa
DESCRIPTION:Liebe Florshainer\, \nam 26.09.2026 findet Vereinsübergreifend eine Grenzwanderung mit Festveranstaltung anlässlich 777 Jahre Stadtrechte Treysa statt.
URL:https://www.schwalmstadt-aktuell.de/event/grenzwanderung-und-festveranstaltung-anl-777-jahre-stadtrechte-treysa-2/
LOCATION:Schwalmstadt
END:VEVENT
BEGIN:VEVENT
DTSTART;VALUE=DATE:20261004
DTEND;VALUE=DATE:20261005
DTSTAMP:20260421T012908
CREATED:20260120T180012Z
LAST-MODIFIED:20260120T115555Z
UID:17570-1791072000-1791158399@www.schwalmstadt-aktuell.de
SUMMARY:Erntedankgottesdienst mit Kirchenkaffee
DESCRIPTION:Liebe Florshainer\, \nam 04.10.2026 richtet der Förderkreis Kirche Florshain den Erntedankgottesdienst mit anschließendem Kirchenkaffee aus.
URL:https://www.schwalmstadt-aktuell.de/event/erntedankgottesdienst-mit-kirchenkaffee/
LOCATION:Kirche Florshain
END:VEVENT
BEGIN:VEVENT
DTSTART;VALUE=DATE:20261010
DTEND;VALUE=DATE:20261011
DTSTAMP:20260421T012908
CREATED:20260120T180000Z
LAST-MODIFIED:20260120T141041Z
UID:17590-1791590400-1791676799@www.schwalmstadt-aktuell.de
SUMMARY:Herbstaktion 2026
DESCRIPTION:Liebe Florshainer\, \nam 10.10.2026 führt der Ortsbeirat Florshain die Herbstaktion rund um Friedhof\, DGH\, Kirche und Spielplatz durch.
URL:https://www.schwalmstadt-aktuell.de/event/herbstaktion-2026/
END:VEVENT
BEGIN:VEVENT
DTSTART;TZID=Europe/Berlin:20261114T170000
DTEND;TZID=Europe/Berlin:20261114T210000
DTSTAMP:20260421T012908
CREATED:20260120T180027Z
LAST-MODIFIED:20260120T113516Z
UID:17547-1794675600-1794690000@www.schwalmstadt-aktuell.de
SUMMARY:Laternenumzug Kinder- & Jugendfeuerwehr 2026
DESCRIPTION:Liebe Florshainer\, \nam 14.11.2026 lädt die Kinder- und Jugendfeuerwehr Florshain ab 17:00 Uhr zum Laternenumzug ein.
URL:https://www.schwalmstadt-aktuell.de/event/laternenumzug-kinder-jugendfeuerwehr-2026/
LOCATION:Florshain
END:VEVENT
BEGIN:VEVENT
DTSTART;VALUE=DATE:20261115
DTEND;VALUE=DATE:20261116
DTSTAMP:20260421T012908
CREATED:20260120T180029Z
LAST-MODIFIED:20260120T141023Z
UID:17592-1794700800-1794787199@www.schwalmstadt-aktuell.de
SUMMARY:Volkstrauertag 2026
DESCRIPTION:Liebe Florshainer\, \nam 15.11.2026 ist Volkstrauertag. Es wird um Teilnahme der Vereine am Gottesdienst und Gedenken am Friedhof gebeten.
URL:https://www.schwalmstadt-aktuell.de/event/volkstrauertag-2026/
LOCATION:Kirche Florshain
END:VEVENT
BEGIN:VEVENT
DTSTART;VALUE=DATE:20261205
DTEND;VALUE=DATE:20261206
DTSTAMP:20260421T012908
CREATED:20260120T180008Z
LAST-MODIFIED:20260120T134748Z
UID:17572-1796428800-1796515199@www.schwalmstadt-aktuell.de
SUMMARY:Adventsnachmittag 2026
DESCRIPTION:Liebe Florshainer\, \nam 05.12.2026 organisiert der Förderkreis Kirche Florshain einen Adventsnachmittag.
URL:https://www.schwalmstadt-aktuell.de/event/adventsnachmittag-2026/
END:VEVENT
END:VCALENDAR