BEGIN:VCALENDAR
VERSION:2.0
PRODID:-//Schwalmstadt Aktuell - ECPv6.15.20//NONSGML v1.0//EN
CALSCALE:GREGORIAN
METHOD:PUBLISH
X-WR-CALNAME:Schwalmstadt Aktuell
X-ORIGINAL-URL:https://www.schwalmstadt-aktuell.de
X-WR-CALDESC:Veranstaltungen im Schwalmstadt Aktuell
REFRESH-INTERVAL;VALUE=DURATION:PT1H
X-Robots-Tag:noindex
X-PUBLISHED-TTL:PT1H
BEGIN:VTIMEZONE
TZID:Europe/Berlin
BEGIN:DAYLIGHT
TZOFFSETFROM:+0100
TZOFFSETTO:+0200
TZNAME:CEST
DTSTART:20210328T010000
END:DAYLIGHT
BEGIN:STANDARD
TZOFFSETFROM:+0200
TZOFFSETTO:+0100
TZNAME:CET
DTSTART:20211031T010000
END:STANDARD
BEGIN:DAYLIGHT
TZOFFSETFROM:+0100
TZOFFSETTO:+0200
TZNAME:CEST
DTSTART:20220327T010000
END:DAYLIGHT
BEGIN:STANDARD
TZOFFSETFROM:+0200
TZOFFSETTO:+0100
TZNAME:CET
DTSTART:20221030T010000
END:STANDARD
BEGIN:DAYLIGHT
TZOFFSETFROM:+0100
TZOFFSETTO:+0200
TZNAME:CEST
DTSTART:20230326T010000
END:DAYLIGHT
BEGIN:STANDARD
TZOFFSETFROM:+0200
TZOFFSETTO:+0100
TZNAME:CET
DTSTART:20231029T010000
END:STANDARD
BEGIN:DAYLIGHT
TZOFFSETFROM:+0100
TZOFFSETTO:+0200
TZNAME:CEST
DTSTART:20240331T010000
END:DAYLIGHT
BEGIN:STANDARD
TZOFFSETFROM:+0200
TZOFFSETTO:+0100
TZNAME:CET
DTSTART:20241027T010000
END:STANDARD
BEGIN:DAYLIGHT
TZOFFSETFROM:+0100
TZOFFSETTO:+0200
TZNAME:CEST
DTSTART:20250330T010000
END:DAYLIGHT
BEGIN:STANDARD
TZOFFSETFROM:+0200
TZOFFSETTO:+0100
TZNAME:CET
DTSTART:20251026T010000
END:STANDARD
BEGIN:DAYLIGHT
TZOFFSETFROM:+0100
TZOFFSETTO:+0200
TZNAME:CEST
DTSTART:20260329T010000
END:DAYLIGHT
BEGIN:STANDARD
TZOFFSETFROM:+0200
TZOFFSETTO:+0100
TZNAME:CET
DTSTART:20261025T010000
END:STANDARD
END:VTIMEZONE
BEGIN:VEVENT
DTSTART;TZID=Europe/Berlin:20251029T143000
DTEND;TZID=Europe/Berlin:20251029T173000
DTSTAMP:20260421T032936
CREATED:20251020T150706Z
LAST-MODIFIED:20251020T150706Z
UID:17500-1761748200-1761759000@www.schwalmstadt-aktuell.de
SUMMARY:3. Rommershäuser Dorfcafe
DESCRIPTION:Der Ortsbeirat Rommershausen lädt am 29.10. ab 14.30 Uhr zum 3. Rommershäuser Dorfcafe ein. \nWir wollen bei Kaffee und Kuchen im DGH Rommershausen einen gemütlichen Nachmittag. verbringen. \nAnne\, Monika\, Jürgen\, Erich und Guido
URL:https://www.schwalmstadt-aktuell.de/event/3-rommershaeuser-dorfcafe/
LOCATION:[Amtlicher Beitrag] DGH Rommershausen\, Bahnhofsweg 4\, Schwalmstadt\, 34613
ATTACH;FMTTYPE=image/png:https://www.schwalmstadt-aktuell.de/wp-content/uploads/sites/366/2025/10/Dorfcafe.png
END:VEVENT
BEGIN:VEVENT
DTSTART;TZID=Europe/Berlin:20251025T103000
DTEND;TZID=Europe/Berlin:20251025T160000
DTSTAMP:20260421T032936
CREATED:20250930T090101Z
LAST-MODIFIED:20250930T090101Z
UID:17496-1761388200-1761408000@www.schwalmstadt-aktuell.de
SUMMARY:Herbstputz Dittershausen
DESCRIPTION:Liebe Dittershäuser/innen\, \nunser diesjähriger „Herbstputz“ findet am \nSamstag\, den 25. Oktober 2025 statt. \nBeginn ist um 10:30 Uhr. \nWir treffen uns an der „Alten Schule“. \nAuch in diesem Jahr wollen wir wieder verschiedene öffentliche Flächen im Ort\, sowie den Friedhof\, säubern und pflegen. Die erforderlichen Geräte sollten mitgebracht werden. \nWie in jedem Jahr wird auch diesmal für das leibliche Wohl gesorgt sein. \nAuf viele fleißige Helfer freut sich Euer Ortsbeirat Dittershausen \n  \n  \n  \n  \n 
URL:https://www.schwalmstadt-aktuell.de/event/herbstputz-dittershausen/
LOCATION:[Amtlicher Beitrag] DGH Dittershausen
END:VEVENT
BEGIN:VEVENT
DTSTART;TZID=Europe/Berlin:20250614T200000
DTEND;TZID=Europe/Berlin:20250615T010000
DTSTAMP:20260421T032936
CREATED:20240615T084801Z
LAST-MODIFIED:20241008T154842Z
UID:17169-1749931200-1749949200@www.schwalmstadt-aktuell.de
SUMMARY:ScheunenRock 2025
DESCRIPTION:Save the Date! \nDer Dorfverein Rommershausen veranstaltet am 14. Juni den ScheunenRock 2025 – als Band konnten wir Mike Gerhold & Friends gewinnen. Freut euch auf einen rockigen Abend 🤘 \n \nMike Gerhold feierte in 2022 sein 30-jähriges Bühnenjubiläum. Dass er kein Unbekannter ist\, zeigt allein seine Historie in der er bereits Auftritte als Supportact von Größen wie SWEET\, SLADE\, DORO PESCH\, SAXON\, BARCLAY JAMES HARVEST\, INEXTREMO \, Spider Murphy Gang\, The Hooters u.v.a. namhaften Größen vorweisen kann.  \n  \nMitveranstalter ist die Stadt Schwalmstadt
URL:https://www.schwalmstadt-aktuell.de/event/scheunenrock-2025/
LOCATION:[Amtlicher Beitrag] Festscheune\, Bahnhofsweg 4\, Schwalmstadt\, Hessen\, 34613\, Deutschland
END:VEVENT
BEGIN:VEVENT
DTSTART;TZID=Europe/Berlin:20250606T143000
DTEND;TZID=Europe/Berlin:20250606T180000
DTSTAMP:20260421T032936
CREATED:20250525T123940Z
LAST-MODIFIED:20250525T124000Z
UID:17449-1749220200-1749232800@www.schwalmstadt-aktuell.de
SUMMARY:Dorfcafé Ascherode
DESCRIPTION:Dorfcafé_2025.06.06
URL:https://www.schwalmstadt-aktuell.de/event/dorfcafe-ascherode/
LOCATION:DGH Ascherode\, Teichwiese\, Ascherode\, Hessen\, 34613\, Germany
END:VEVENT
BEGIN:VEVENT
DTSTART;VALUE=DATE:20250530
DTEND;VALUE=DATE:20250602
DTSTAMP:20260421T032936
CREATED:20250525T102328Z
LAST-MODIFIED:20250525T113153Z
UID:17441-1748563200-1748822399@www.schwalmstadt-aktuell.de
SUMMARY:Kirmes Ascherode
DESCRIPTION:
URL:https://www.schwalmstadt-aktuell.de/event/kirmes-ascherode/
LOCATION:Festplatz Ascherode\, Teichwiese\, Ascherode\, Hessen\, 34613\, Germany
END:VEVENT
BEGIN:VEVENT
DTSTART;TZID=Europe/Berlin:20241116T130000
DTEND;TZID=Europe/Berlin:20241116T170000
DTSTAMP:20260421T032936
CREATED:20240917T173533Z
LAST-MODIFIED:20240917T173533Z
UID:17255-1731762000-1731776400@www.schwalmstadt-aktuell.de
SUMMARY:Herbst-Dorf-Putz in Rommershausen
DESCRIPTION:Der Ortsbeirat lädt zum alljährlichen Herbstputz ein. \nTreffen ist um 13 Uhr am Dorfplatz. Dort teilen wir uns dann auf\, um Büsche\, Hecken etc. zu schneiden\, Laub zu rechen\, …\nArbeitsgeräte (Besen\, Schaufel\, Rechen\, Schubkarren\, Hacken\, ggfs. Hecken- und Astscheren) sind gerne mitzubringen. \nZum Abschluss gibt es – wie immer – auch einen Imbiss. Je nach Wetterlage In- oder Outdoor \nEs freut sich auf viele fleißige Helfer – der Ortsbeirat Rommershausen
URL:https://www.schwalmstadt-aktuell.de/event/herbst-dorf-putz-in-rommershausen/
LOCATION:[Amtlicher Beitrag] Dorfplatz\, Schloßstr. 2\, Rommershausen\, 34613\, Deutschland
ATTACH;FMTTYPE=image/jpeg:https://www.schwalmstadt-aktuell.de/wp-content/uploads/sites/366/2024/09/laub-rechen.jpg
END:VEVENT
BEGIN:VEVENT
DTSTART;TZID=Europe/Berlin:20240630T100000
DTEND;TZID=Europe/Berlin:20240630T133000
DTSTAMP:20260421T032936
CREATED:20240614T173822Z
LAST-MODIFIED:20240614T174432Z
UID:17162-1719741600-1719754200@www.schwalmstadt-aktuell.de
SUMMARY:Einweihung Meteoriten Pfad
DESCRIPTION:Einweihung mit anschließender geführter Wanderung (6km\, ca. 2 Std.) über den neuen Pfad\, im Anschluss gibt es einen kleinen Imbiss \nDer Bürgerbus fährt ab 9.15 Uhr vom Zimmerplatz in Treysa nach Rommershausen und im Anschluss an die Veranstaltung wieder nach Treysa. \nAnmeldung bitte bis 24. Juni an p.thiel@schwalmstadt.de \, zur besseren Planung
URL:https://www.schwalmstadt-aktuell.de/event/einweihung-meteoriten-pfad/
LOCATION:[Amtlicher Beitrag] Wanderparkplatz Rommershausen (ggü Sporthäuschen)
ATTACH;FMTTYPE=image/jpeg:https://www.schwalmstadt-aktuell.de/wp-content/uploads/sites/366/2024/06/IMG_8287.jpeg
END:VEVENT
BEGIN:VEVENT
DTSTART;TZID=Europe/Berlin:20231219T190000
DTEND;TZID=Europe/Berlin:20231219T210000
DTSTAMP:20260421T032936
CREATED:20231209T063201Z
LAST-MODIFIED:20231209T063201Z
UID:16984-1703012400-1703019600@www.schwalmstadt-aktuell.de
SUMMARY:Eine eigene Wärmeversorgung von uns und für uns - Bürgerversammlung Nahwärme Florshain
DESCRIPTION:Liebe Florshainerinnen und Florshainer\, \ndie Konzeptstudie von Firma Viessmann für die Nahwärmeversorgung in Florshain liegt vor.\nDie Fachleute von Viessmann haben für mehrere Schwalmstädter Dörfer Möglichkeiten für Nahwärmenetze geprüft und durchgerechnet. \nUns liegen damit nun die Kostenberechnungen für die Investitionen\, ein ungefährer Wärmepreis und die nächsten Schritte mit einem möglichen zeitlichen und organisatorischen Umsetzungsplan vor.\nEs kann also losgehen! \nBeim Informationsabend am 19. Dezember 2023 um 19:00 Uhr im Dorfgemeinschaftshaus Florshain wird das Projektteam aus unserem Dorf zusammen mit dem Team von Viessmann die Eckpunkte für unser Nahwärmenetz Florshain vorstellen. \nEuer Florshainer Projektteam
URL:https://www.schwalmstadt-aktuell.de/event/eine-eigene-waermeversorgung-von-uns-und-fuer-uns-buergerversammlung-nahwaerme-florshain/
LOCATION:[Amtlicher Beitrag] 
END:VEVENT
BEGIN:VEVENT
DTSTART;TZID=Europe/Berlin:20231007T090000
DTEND;TZID=Europe/Berlin:20231007T140000
DTSTAMP:20260421T032936
CREATED:20230928T055555Z
LAST-MODIFIED:20230928T055555Z
UID:16945-1696669200-1696687200@www.schwalmstadt-aktuell.de
SUMMARY:Herbst-Arbeitseinsatz rund um Kirche\, DGH\, Spielplatz und Friedhof
DESCRIPTION:Liebe Florshainer:innen\, \nam 07. Oktober um 09:00Uhr startet wieder unser großer Herbst-Arbeitseinsatz rund um Kirche\, DGH\, Spielplatz und Friedhof. \nWir wollen Büsche\, Hecken und Bäume schneiden\, die Wege säubern und alles soweit auf den Herbst und Winter vorbereiten. \nWir würden uns über helfende Hände sehr freuen!\nArbeitsgerät (Besen\, Schaufel\, Rechen\, Schubkarren\, Hacken\, ggfs. Hecken- und Astscheren und Motorsensen) sind sofern vorhanden bitte mitzubringen. \nTreffpunkt am 07. Oktober um 09:00Uhr ist der DGH-Parkplatz.\nDas Ende der Arbeitsaktion ist gegen Mittag geplant. \nAls kleines Dankeschön laden wir im direkten Anschluss alle Helfer zu einer gemeinsamen Vesper ein! \nAuf Eure Unterstützung freut sich der\nOrtsbeirat und Friedhofsausschuss Florshain
URL:https://www.schwalmstadt-aktuell.de/event/herbst-arbeitseinsatz-rund-um-kirche-dgh-spielplatz-und-friedhof/
LOCATION:[Amtlicher Beitrag] 
END:VEVENT
BEGIN:VEVENT
DTSTART;TZID=Europe/Berlin:20231002T200000
DTEND;TZID=Europe/Berlin:20231002T233000
DTSTAMP:20260421T032936
CREATED:20231002T090213Z
LAST-MODIFIED:20231002T090213Z
UID:16947-1696276800-1696289400@www.schwalmstadt-aktuell.de
SUMMARY:Oktoberfest in Frankenhain
DESCRIPTION:
URL:https://www.schwalmstadt-aktuell.de/event/oktoberfest-in-frankenhain/
LOCATION:[Amtlicher Beitrag] DGH Frankenhain\, Frankenhain
END:VEVENT
BEGIN:VEVENT
DTSTART;TZID=Europe/Berlin:20230308T190000
DTEND;TZID=Europe/Berlin:20230308T220000
DTSTAMP:20260421T032936
CREATED:20230209T090731Z
LAST-MODIFIED:20230209T090731Z
UID:16812-1678302000-1678312800@www.schwalmstadt-aktuell.de
SUMMARY:Bürgerversammlung Nahwärme Florshain
DESCRIPTION:Liebe Florshainer\, \nam 08. März um 19:00Uhr findet im DGH eine Bürgerversammlung zum Thema Nahwärme statt.\nWir haben dazu auch einen Experten der Fa. Viessmann eingeladen. \nThemen der Versammlung:\n– Ergebnis der Bedarfserhebung\n– Stand der Abstimmung mit der Stadt Schwalmstadt\n– Nahwärmekonzepte\n– Konzeptstudie Nahwärme Florshain\n– Heizzentrale\, Flächenbedarf und Standort\n– Nahwärme Genossenschaft \nHerzliche Grüße\nMario Heinrich Schenk
URL:https://www.schwalmstadt-aktuell.de/event/buergerversammlung-nahwaerme-florshain/
LOCATION:[Amtlicher Beitrag] 
END:VEVENT
BEGIN:VEVENT
DTSTART;TZID=Europe/Berlin:20221101T190000
DTEND;TZID=Europe/Berlin:20221101T220000
DTSTAMP:20260421T032936
CREATED:20221021T120111Z
LAST-MODIFIED:20221021T120111Z
UID:16698-1667329200-1667340000@www.schwalmstadt-aktuell.de
SUMMARY:Sitzung des Ortsbeirat Florshain
DESCRIPTION:Öffentliche Bekanntmachung der Stadt Schwalmstadt \nIch habe die Mitglieder des Ortsbeirates Florshain zu einer Sitzung für \nDienstag\, den 1. November 2022 – 19:00 Uhr –\nin das Gemeinschaftshaus im Stadtteil Florshain \neingeladen. \nTagesordnung \n1. Begrüßung\, Eröffnung der Sitzung und Feststellung der Beschlussfähigkeit \n2. Vorstellung Planungsalternativen Teichumfeld und Beschlussfassung \n3. Sachstand Teichsanierung \n4. Sachstand Bauplätze/Baulanddialog \n5. I. Nachtragshaushaltssatzung mit I. Nachtragshaushaltsplan für das Haushaltsjahr 2022 der Stadt Schwalmstadt \n6. Vorschläge für den Haushaltsplan 2023 mit Investitionsprogramm für die Jahre 2022 bis 2026 \n7. Nahwärmenetz Florshain\, Ergebnisse der Bedarfserhebung; Abstimmung zur weiteren Vorgehensweise \n8. Digitale Einladung der Ortsbeiräte \n9. Ortsbeiratsbudget \n10. Verschiedenes \nSchwalmstadt\, 21. Oktober 2022 \ngez. Mario Schenk
URL:https://www.schwalmstadt-aktuell.de/event/sitzung-des-ortsbeirat-florshain-2/
LOCATION:[Amtlicher Beitrag] 
END:VEVENT
BEGIN:VEVENT
DTSTART;TZID=Europe/Berlin:20220420T190000
DTEND;TZID=Europe/Berlin:20220420T220000
DTSTAMP:20260421T032936
CREATED:20220411T185253Z
LAST-MODIFIED:20220411T185253Z
UID:16572-1650481200-1650492000@www.schwalmstadt-aktuell.de
SUMMARY:Sitzung des Ortsbeirat Florshain
DESCRIPTION:Ich habe die Mitglieder des Ortsbeirates Florshain zu einer Sitzung für \nMittwoch\, den 20. April 2022 – 19:00 Uhr –\nin das Gemeinschaftshaus im Stadtteil Florshain \neingeladen. \nTagesordnung\n1. Begrüßung\, Eröffnung der Sitzung und Feststellung der Beschlussfähigkeit\n2. Besetzung des Ortsgerichtes Schwalmstadt I\n3. Dorfpflegeplan/Grünpflegeplan Stadt Schwalmstadt\n4. Nahwärmenetz in Florshain\, Abstimmung/Überlegungen weitere Vorgehensweise\n5. Bericht Baulanddialog vom 23.03. und nächste Schritte\n6. Ortsbeiratsbudget\n7. Verschiedenes \nSchwalmstadt\, 11. April 2022 \ngez. Mario Schenk\nOrtsvorsteher
URL:https://www.schwalmstadt-aktuell.de/event/sitzung-des-ortsbeirat-florshain/
LOCATION:[Amtlicher Beitrag] Kreuzung Blütenstraße/ Alte Mengsberger Straße\, im Anschluss DGH Florshain
END:VEVENT
BEGIN:VEVENT
DTSTART;TZID=Europe/Berlin:20220126T190000
DTEND;TZID=Europe/Berlin:20220126T210000
DTSTAMP:20260421T032936
CREATED:20220111T175851Z
LAST-MODIFIED:20220111T175851Z
UID:16496-1643223600-1643230800@www.schwalmstadt-aktuell.de
SUMMARY:Sitzung des Ortsbeirates Florshain
DESCRIPTION:Ich habe die Mitglieder des Ortsbeirates Florshain zu einer Sitzung für\nMittwoch\, den 26. Januar 2022 – 19:00 Uhr –\nin das Gemeinschaftshaus im Stadtteil Florshain\neingeladen. \nTagesordnung \n1. Begrüßung\, Eröffnung der Sitzung und Feststellung der Beschlussfähigkeit\n2. Haushaltssatzung mit Haushaltsplan für das Haushaltsjahr 2022 der Stadt Schwalmstadt sowie Investitionsprogramm für die Jahre 2021 bis 2025\n3. Bauplatzsituation in Florshain\, aktueller Status\n4. Verschiedenes\n5. Glasfaseranbindung der Häuser in Florshain \nSchwalmstadt\, 6. Januar 2022 \ngez. Mario Schenk\nOrtsvorsteher
URL:https://www.schwalmstadt-aktuell.de/event/sitzung-des-ortsbeirates-florshain/
LOCATION:[Amtlicher Beitrag] Kreuzung Blütenstraße/ Alte Mengsberger Straße\, im Anschluss DGH Florshain
END:VEVENT
END:VCALENDAR